BEGIN:VCALENDAR
CALSCALE:GREGORIAN
X-WR-TIMEZONE;VALUE=TEXT:GMT
PRODID:PEAK Corporation - piCal -
X-WR-CALNAME;VALUE=TEXT:練習試合（U‐9）
VERSION:2.0
METHOD:PUBLISH
BEGIN:VTIMEZONE
TZID:GMT
BEGIN:STANDARD
DTSTART:19390101T000000
TZOFFSETFROM:+0000
TZOFFSETTO:+0000
TZNAME:GMT
END:STANDARD
END:VTIMEZONE
BEGIN:VEVENT
DTSTART:20130825T000000Z
DTEND:20130825T050000Z
LOCATION:八木山小学校
TRANSP:OPAQUE
SEQUENCE:4
UID:pical060-e919eac3317102cbe970ba06d29d5d60
DTSTAMP:20130819T081904Z
CATEGORIES:
DESCRIPTION:3年以下対象\n吉成ウイングス・住吉台SFC・茂庭台
SUMMARY:練習試合（U‐9）
PRIORITY:0
CLASS:PUBLIC
END:VEVENT
END:VCALENDAR
