BEGIN:VCALENDAR
CALSCALE:GREGORIAN
X-WR-TIMEZONE;VALUE=TEXT:GMT
PRODID:PEAK Corporation - piCal -
X-WR-CALNAME;VALUE=TEXT:練習
VERSION:2.0
METHOD:PUBLISH
BEGIN:VTIMEZONE
TZID:GMT
BEGIN:STANDARD
DTSTART:19390101T000000
TZOFFSETFROM:+0000
TZOFFSETTO:+0000
TZNAME:GMT
END:STANDARD
END:VTIMEZONE
BEGIN:VEVENT
DTSTART:20130826T094500Z
DTEND:20130826T111500Z
LOCATION:芦口小学校体育館
TRANSP:OPAQUE
SEQUENCE:0
UID:pical060-48635a2bb6ecc0845d47f743e7560ac7
DTSTAMP:20130727T153232Z
CATEGORIES:
DESCRIPTION:
SUMMARY:練習
PRIORITY:0
CLASS:PUBLIC
END:VEVENT
END:VCALENDAR
