BEGIN:VCALENDAR
CALSCALE:GREGORIAN
X-WR-TIMEZONE;VALUE=TEXT:GMT
PRODID:PEAK Corporation - piCal -
X-WR-CALNAME;VALUE=TEXT:学習発表会
VERSION:2.0
METHOD:PUBLISH
BEGIN:VTIMEZONE
TZID:GMT
BEGIN:STANDARD
DTSTART:19390101T000000
TZOFFSETFROM:+0000
TZOFFSETTO:+0000
TZNAME:GMT
END:STANDARD
END:VTIMEZONE
BEGIN:VEVENT
DTSTART:20131116T000000Z
DTEND:20131116T080000Z
LOCATION:
TRANSP:OPAQUE
SEQUENCE:0
UID:pical060-c30a986fa340eb85f492474192a42bab
DTSTAMP:20131112T094855Z
CATEGORIES:
DESCRIPTION:
SUMMARY:学習発表会
PRIORITY:0
CLASS:PUBLIC
END:VEVENT
END:VCALENDAR
