BEGIN:VCALENDAR
CALSCALE:GREGORIAN
X-WR-TIMEZONE;VALUE=TEXT:GMT
PRODID:PEAK Corporation - piCal -
X-WR-CALNAME;VALUE=TEXT:練習試合（4.5.6年）
VERSION:2.0
METHOD:PUBLISH
BEGIN:VTIMEZONE
TZID:GMT
BEGIN:STANDARD
DTSTART:19390101T000000
TZOFFSETFROM:+0000
TZOFFSETTO:+0000
TZNAME:GMT
END:STANDARD
END:VTIMEZONE
BEGIN:VEVENT
DTSTART:20131116T233000Z
DTEND:20131117T040000Z
LOCATION:八木山
TRANSP:OPAQUE
SEQUENCE:0
UID:pical060-ea58064d3d4b8cf02df98f82fa567446
DTSTAMP:20131113T235755Z
CATEGORIES:
DESCRIPTION:VS金剛沢
SUMMARY:練習試合（4.5.6年）
PRIORITY:0
CLASS:PUBLIC
END:VEVENT
END:VCALENDAR
