BEGIN:VCALENDAR
CALSCALE:GREGORIAN
X-WR-TIMEZONE;VALUE=TEXT:GMT
PRODID:PEAK Corporation - piCal -
X-WR-CALNAME;VALUE=TEXT:練習試合(3年以下)
VERSION:2.0
METHOD:PUBLISH
BEGIN:VTIMEZONE
TZID:GMT
BEGIN:STANDARD
DTSTART:19390101T000000
TZOFFSETFROM:+0000
TZOFFSETTO:+0000
TZNAME:GMT
END:STANDARD
END:VTIMEZONE
BEGIN:VEVENT
DTSTART:20131122T233000Z
DTEND:20131123T030000Z
LOCATION:南吉成小
TRANSP:OPAQUE
SEQUENCE:0
UID:pical060-368b5f2b8f2520eb0da8ad82ba7a143b
DTSTAMP:20131202T082619Z
CATEGORIES:
DESCRIPTION:vs吉成ウイングス
SUMMARY:練習試合(3年以下)
PRIORITY:0
CLASS:PUBLIC
END:VEVENT
END:VCALENDAR
