BEGIN:VCALENDAR
CALSCALE:GREGORIAN
X-WR-TIMEZONE;VALUE=TEXT:GMT
PRODID:PEAK Corporation - piCal -
X-WR-CALNAME;VALUE=TEXT:【中止】練習試合(U-9)
VERSION:2.0
METHOD:PUBLISH
BEGIN:VTIMEZONE
TZID:GMT
BEGIN:STANDARD
DTSTART:19390101T000000
TZOFFSETFROM:+0000
TZOFFSETTO:+0000
TZNAME:GMT
END:STANDARD
END:VTIMEZONE
BEGIN:VEVENT
DTSTART:20140216T040000Z
DTEND:20140216T063000Z
LOCATION:八木山小
TRANSP:OPAQUE
SEQUENCE:5
UID:pical060-6c7de73f72ef87fdba183c9900affe36
DTSTAMP:20140222T014535Z
CATEGORIES:
DESCRIPTION:vs北六(U-9)\n【積雪のため中止】
SUMMARY:【中止】練習試合(U-9)
PRIORITY:0
CLASS:PUBLIC
END:VEVENT
END:VCALENDAR
