BEGIN:VCALENDAR
CALSCALE:GREGORIAN
X-WR-TIMEZONE;VALUE=TEXT:GMT
PRODID:PEAK Corporation - piCal -
X-WR-CALNAME;VALUE=TEXT:総会・懇親会
VERSION:2.0
METHOD:PUBLISH
BEGIN:VTIMEZONE
TZID:GMT
BEGIN:STANDARD
DTSTART:19390101T000000
TZOFFSETFROM:+0000
TZOFFSETTO:+0000
TZNAME:GMT
END:STANDARD
END:VTIMEZONE
BEGIN:VEVENT
DTSTART:20140315T093000Z
DTEND:20140315T113000Z
LOCATION:
TRANSP:OPAQUE
SEQUENCE:0
UID:pical060-53a5efa1142eed0551ff949973c8ddee
DTSTAMP:20140222T012601Z
CATEGORIES:
DESCRIPTION:
SUMMARY:総会・懇親会
PRIORITY:0
CLASS:PUBLIC
END:VEVENT
END:VCALENDAR
