BEGIN:VCALENDAR
CALSCALE:GREGORIAN
X-WR-TIMEZONE;VALUE=TEXT:GMT
PRODID:PEAK Corporation - piCal -
X-WR-CALNAME;VALUE=TEXT:練習
VERSION:2.0
METHOD:PUBLISH
BEGIN:VTIMEZONE
TZID:Etc/GMT-9
BEGIN:STANDARD
DTSTART:19390101T000000
TZOFFSETFROM:+0900
TZOFFSETTO:+0900
TZNAME:Etc/GMT-9
END:STANDARD
END:VTIMEZONE
BEGIN:VEVENT
DTSTART;TZID=Etc/GMT-9:20140425T160000
DTEND;TZID=Etc/GMT-9:20140425T180000
LOCATION:八木山小
TRANSP:OPAQUE
SEQUENCE:0
UID:pical060-1a4cb0d172ac5cae111a4cc3cda1cab8
DTSTAMP:20140412T012028Z
CATEGORIES:
DESCRIPTION:雨天の場合は体育館
SUMMARY:練習
RRULE:FREQ=WEEKLY;INTERVAL=1;BYDAY=TU,FR;UNTIL=20140228T145959Z;WKST=SU
PRIORITY:0
CLASS:PUBLIC
END:VEVENT
END:VCALENDAR
