BEGIN:VCALENDAR
CALSCALE:GREGORIAN
X-WR-TIMEZONE;VALUE=TEXT:GMT
PRODID:PEAK Corporation - piCal -
X-WR-CALNAME;VALUE=TEXT:練習試合(U-12,U-11)
VERSION:2.0
METHOD:PUBLISH
BEGIN:VTIMEZONE
TZID:GMT
BEGIN:STANDARD
DTSTART:19390101T000000
TZOFFSETFROM:+0000
TZOFFSETTO:+0000
TZNAME:GMT
END:STANDARD
END:VTIMEZONE
BEGIN:VEVENT
DTSTART:20140429T000000Z
DTEND:20140429T030000Z
LOCATION:八木山小
TRANSP:OPAQUE
SEQUENCE:0
UID:pical060-d6d4b6914f4a31448679f7c3776547fa
DTSTAMP:20140430T111137Z
CATEGORIES:
DESCRIPTION:vs福室
SUMMARY:練習試合(U-12,U-11)
PRIORITY:0
CLASS:PUBLIC
END:VEVENT
END:VCALENDAR
