BEGIN:VCALENDAR
CALSCALE:GREGORIAN
X-WR-TIMEZONE;VALUE=TEXT:GMT
PRODID:PEAK Corporation - piCal -
X-WR-CALNAME;VALUE=TEXT:練習
VERSION:2.0
METHOD:PUBLISH
BEGIN:VTIMEZONE
TZID:GMT
BEGIN:STANDARD
DTSTART:19390101T000000
TZOFFSETFROM:+0000
TZOFFSETTO:+0000
TZNAME:GMT
END:STANDARD
END:VTIMEZONE
BEGIN:VEVENT
DTSTART:20140518T003000Z
DTEND:20140518T030000Z
LOCATION:八木山小
TRANSP:OPAQUE
SEQUENCE:0
UID:pical060-80677dfb5f7cc49a4c42a54fd29e8f19
DTSTAMP:20140430T113015Z
CATEGORIES:
DESCRIPTION:練習(親子サッカー)
SUMMARY:練習
PRIORITY:0
CLASS:PUBLIC
END:VEVENT
END:VCALENDAR
