BEGIN:VCALENDAR
CALSCALE:GREGORIAN
X-WR-TIMEZONE;VALUE=TEXT:GMT
PRODID:PEAK Corporation - piCal -
X-WR-CALNAME;VALUE=TEXT:金剛沢ﾌｯﾄｻﾙ交流大会(U-9)
VERSION:2.0
METHOD:PUBLISH
BEGIN:VTIMEZONE
TZID:GMT
BEGIN:STANDARD
DTSTART:19390101T000000
TZOFFSETFROM:+0000
TZOFFSETTO:+0000
TZNAME:GMT
END:STANDARD
END:VTIMEZONE
BEGIN:VEVENT
DTSTART:20140517T224000Z
DTEND:20140518T073000Z
LOCATION:金剛沢小
TRANSP:OPAQUE
SEQUENCE:1
UID:pical060-585c78154f011391ab1207bab44fb9a2
DTSTAMP:20140516T111310Z
CATEGORIES:
DESCRIPTION:8:45 vsゆりあげ\n9:00 vsACE\n10:00 vs芦の口\n10:45 vs向山\n13:30 vs鳴子\n14:45 vs米沢\n15:45 vs金剛沢
SUMMARY:金剛沢ﾌｯﾄｻﾙ交流大会(U-9)
PRIORITY:0
CLASS:PUBLIC
END:VEVENT
END:VCALENDAR
