BEGIN:VCALENDAR
CALSCALE:GREGORIAN
X-WR-TIMEZONE;VALUE=TEXT:GMT
PRODID:PEAK Corporation - piCal -
X-WR-CALNAME;VALUE=TEXT:【中止】練習試合
VERSION:2.0
METHOD:PUBLISH
BEGIN:VTIMEZONE
TZID:GMT
BEGIN:STANDARD
DTSTART:19390101T000000
TZOFFSETFROM:+0000
TZOFFSETTO:+0000
TZNAME:GMT
END:STANDARD
END:VTIMEZONE
BEGIN:VEVENT
DTSTART:20140629T003000Z
DTEND:20140629T070000Z
LOCATION:秋保湯元小学校
TRANSP:OPAQUE
SEQUENCE:1
UID:pical060-92feae3206febaac47bd69048b9f42c1
DTSTAMP:20140629T061109Z
CATEGORIES:
DESCRIPTION:練習試合【全学年】\nvsFC ACE\nvs鹿野FC
SUMMARY:【中止】練習試合
PRIORITY:0
CLASS:PUBLIC
END:VEVENT
END:VCALENDAR
