BEGIN:VCALENDAR
CALSCALE:GREGORIAN
X-WR-TIMEZONE;VALUE=TEXT:GMT
PRODID:PEAK Corporation - piCal -
X-WR-CALNAME;VALUE=TEXT:学校交歓大会
VERSION:2.0
METHOD:PUBLISH
BEGIN:VTIMEZONE
TZID:GMT
BEGIN:STANDARD
DTSTART:19390101T000000
TZOFFSETFROM:+0000
TZOFFSETTO:+0000
TZNAME:GMT
END:STANDARD
END:VTIMEZONE
BEGIN:VEVENT
DTSTART:20141018T000000Z
DTEND:20141018T080000Z
LOCATION:八木山小学校
TRANSP:OPAQUE
SEQUENCE:0
UID:pical060-c3d089e667019583fc25b7e83f5665e1
DTSTAMP:20141001T092433Z
CATEGORIES:
DESCRIPTION:
SUMMARY:学校交歓大会
PRIORITY:0
CLASS:PUBLIC
END:VEVENT
END:VCALENDAR
