BEGIN:VCALENDAR
CALSCALE:GREGORIAN
X-WR-TIMEZONE;VALUE=TEXT:GMT
PRODID:PEAK Corporation - piCal -
X-WR-CALNAME;VALUE=TEXT:交歓大会
VERSION:2.0
METHOD:PUBLISH
BEGIN:VTIMEZONE
TZID:GMT
BEGIN:STANDARD
DTSTART:19390101T000000
TZOFFSETFROM:+0000
TZOFFSETTO:+0000
TZNAME:GMT
END:STANDARD
END:VTIMEZONE
BEGIN:VEVENT
DTSTART:20141108T000000Z
DTEND:20141108T080000Z
LOCATION:
TRANSP:OPAQUE
SEQUENCE:0
UID:pical060-a6adb2cfdf3b499d05bca7142b138269
DTSTAMP:20141106T090941Z
CATEGORIES:
DESCRIPTION:
SUMMARY:交歓大会
PRIORITY:0
CLASS:PUBLIC
END:VEVENT
END:VCALENDAR
