BEGIN:VCALENDAR
CALSCALE:GREGORIAN
X-WR-TIMEZONE;VALUE=TEXT:GMT
PRODID:PEAK Corporation - piCal -
X-WR-CALNAME;VALUE=TEXT:リスペクトリーグ（U12）
VERSION:2.0
METHOD:PUBLISH
BEGIN:VTIMEZONE
TZID:GMT
BEGIN:STANDARD
DTSTART:19390101T000000
TZOFFSETFROM:+0000
TZOFFSETTO:+0000
TZNAME:GMT
END:STANDARD
END:VTIMEZONE
BEGIN:VEVENT
DTSTART:20150606T000000Z
DTEND:20150606T080000Z
LOCATION:
TRANSP:OPAQUE
SEQUENCE:0
UID:pical060-04255d9d5a482915bba80e5276bad248
DTSTAMP:20150501T045007Z
CATEGORIES:
DESCRIPTION:
SUMMARY:リスペクトリーグ（U12）
PRIORITY:0
CLASS:PUBLIC
END:VEVENT
END:VCALENDAR
