BEGIN:VCALENDAR
CALSCALE:GREGORIAN
X-WR-TIMEZONE;VALUE=TEXT:GMT
PRODID:PEAK Corporation - piCal -
X-WR-CALNAME;VALUE=TEXT:新人大会 県大会 監督者会議
VERSION:2.0
METHOD:PUBLISH
BEGIN:VTIMEZONE
TZID:GMT
BEGIN:STANDARD
DTSTART:19390101T000000
TZOFFSETFROM:+0000
TZOFFSETTO:+0000
TZNAME:GMT
END:STANDARD
END:VTIMEZONE
BEGIN:VEVENT
DTSTART:20170514T090000Z
DTEND:20170514T100000Z
LOCATION:めぐみ野サッカー場　Ａ本部室
TRANSP:OPAQUE
SEQUENCE:1
UID:pical060-00148e1d1160c02bbbd9d4ec56098222
DTSTAMP:20170423T122242Z
CATEGORIES:
DESCRIPTION:芹澤Ｃ
SUMMARY:新人大会 県大会 監督者会議
PRIORITY:0
CLASS:PUBLIC
END:VEVENT
END:VCALENDAR
