BEGIN:VCALENDAR
CALSCALE:GREGORIAN
X-WR-TIMEZONE;VALUE=TEXT:GMT
PRODID:PEAK Corporation - piCal -
X-WR-CALNAME;VALUE=TEXT:【雨天中止】練習
VERSION:2.0
METHOD:PUBLISH
BEGIN:VTIMEZONE
TZID:GMT
BEGIN:STANDARD
DTSTART:19390101T000000
TZOFFSETFROM:+0000
TZOFFSETTO:+0000
TZNAME:GMT
END:STANDARD
END:VTIMEZONE
BEGIN:VEVENT
DTSTART:20170514T003000Z
DTEND:20170514T030000Z
LOCATION:八木山小校庭
TRANSP:OPAQUE
SEQUENCE:3
UID:pical060-5e724789e2f9cf5a5b1a9c9b3ed22201
DTSTAMP:20170513T233123Z
CATEGORIES:
DESCRIPTION:
SUMMARY:【雨天中止】練習
PRIORITY:0
CLASS:PUBLIC
END:VEVENT
END:VCALENDAR
