BEGIN:VCALENDAR
CALSCALE:GREGORIAN
X-WR-TIMEZONE;VALUE=TEXT:GMT
PRODID:PEAK Corporation - piCal -
X-WR-CALNAME;VALUE=TEXT:新人大会 県大会1次予選
VERSION:2.0
METHOD:PUBLISH
BEGIN:VTIMEZONE
TZID:GMT
BEGIN:STANDARD
DTSTART:19390101T000000
TZOFFSETFROM:+0000
TZOFFSETTO:+0000
TZNAME:GMT
END:STANDARD
END:VTIMEZONE
BEGIN:VEVENT
DTSTART:20170610T000000Z
DTEND:20170610T080000Z
LOCATION:松島FBC
TRANSP:OPAQUE
SEQUENCE:1
UID:pical060-a7fff2f96b4a11e4f50fe4814fe49bd2
DTSTAMP:20170515T114232Z
CATEGORIES:
DESCRIPTION:対象：U11\n9:00～　(予備審)\n11:00～　やぎやまvs台原\n12:00～　(主審)\n15:00～　やぎやまvs古川南
SUMMARY:新人大会 県大会1次予選
PRIORITY:0
CLASS:PUBLIC
END:VEVENT
END:VCALENDAR
