BEGIN:VCALENDAR
CALSCALE:GREGORIAN
X-WR-TIMEZONE;VALUE=TEXT:GMT
PRODID:PEAK Corporation - piCal -
X-WR-CALNAME;VALUE=TEXT:体育館使用不可(学習発表会)
VERSION:2.0
METHOD:PUBLISH
BEGIN:VTIMEZONE
TZID:GMT
BEGIN:STANDARD
DTSTART:19390101T000000
TZOFFSETFROM:+0000
TZOFFSETTO:+0000
TZNAME:GMT
END:STANDARD
END:VTIMEZONE
BEGIN:VEVENT
DTSTART;VALUE=DATE:20171024
DTEND;VALUE=DATE:20171025
LOCATION:
TRANSP:OPAQUE
SEQUENCE:3
UID:pical060-0d2d7dbd917ea6029d349c7c51a2a64b
DTSTAMP:20170411T120641Z
CATEGORIES:
DESCRIPTION:
SUMMARY:体育館使用不可(学習発表会)
RRULE:FREQ=WEEKLY;INTERVAL=1;BYDAY=TU,FR;UNTIL=20171110T000000Z;WKST=SU
PRIORITY:0
CLASS:PUBLIC
END:VEVENT
END:VCALENDAR
