BEGIN:VCALENDAR
CALSCALE:GREGORIAN
X-WR-TIMEZONE;VALUE=TEXT:GMT
PRODID:PEAK Corporation - piCal -
X-WR-CALNAME;VALUE=TEXT:ﾘｽﾍﾟｸﾄﾘｰｸﾞ
VERSION:2.0
METHOD:PUBLISH
BEGIN:VTIMEZONE
TZID:GMT
BEGIN:STANDARD
DTSTART:19390101T000000
TZOFFSETFROM:+0000
TZOFFSETTO:+0000
TZNAME:GMT
END:STANDARD
END:VTIMEZONE
BEGIN:VEVENT
DTSTART:20170520T050000Z
DTEND:20170520T080000Z
LOCATION:袋原小
TRANSP:OPAQUE
SEQUENCE:1
UID:pical060-cc9c4334a6eb2ebf7f971a000639e9c9
DTSTAMP:20170425T091954Z
CATEGORIES:
DESCRIPTION:対象：U12\n14:00～ やぎやま vs 袋原B(副審1)\n15:05～ 袋原B vs MESSE(主審)\n16:10～ MESSE vs やぎやま(副審1)
SUMMARY:ﾘｽﾍﾟｸﾄﾘｰｸﾞ
PRIORITY:0
CLASS:PUBLIC
END:VEVENT
END:VCALENDAR
