BEGIN:VCALENDAR
CALSCALE:GREGORIAN
X-WR-TIMEZONE;VALUE=TEXT:GMT
PRODID:PEAK Corporation - piCal -
X-WR-CALNAME;VALUE=TEXT:練習
VERSION:2.0
METHOD:PUBLISH
BEGIN:VTIMEZONE
TZID:GMT
BEGIN:STANDARD
DTSTART:19390101T000000
TZOFFSETFROM:+0000
TZOFFSETTO:+0000
TZNAME:GMT
END:STANDARD
END:VTIMEZONE
BEGIN:VEVENT
DTSTART:20170521T043000Z
DTEND:20170521T070000Z
LOCATION:八木山小
TRANSP:OPAQUE
SEQUENCE:1
UID:pical060-9bcf6cae9dfb25a3d22b80312cad5887
DTSTAMP:20170523T143331Z
CATEGORIES:
DESCRIPTION:
SUMMARY:練習
PRIORITY:0
CLASS:PUBLIC
END:VEVENT
END:VCALENDAR
