BEGIN:VCALENDAR
CALSCALE:GREGORIAN
X-WR-TIMEZONE;VALUE=TEXT:GMT
PRODID:PEAK Corporation - piCal -
X-WR-CALNAME;VALUE=TEXT:岩沼招待SC
VERSION:2.0
METHOD:PUBLISH
BEGIN:VTIMEZONE
TZID:GMT
BEGIN:STANDARD
DTSTART:19390101T000000
TZOFFSETFROM:+0000
TZOFFSETTO:+0000
TZNAME:GMT
END:STANDARD
END:VTIMEZONE
BEGIN:VEVENT
DTSTART:20170730T000000Z
DTEND:20170730T080000Z
LOCATION:
TRANSP:OPAQUE
SEQUENCE:0
UID:pical060-ceb9ef55800bb9f8597da59d3e76370c
DTSTAMP:20170523T152156Z
CATEGORIES:
DESCRIPTION:第5回 岩沼招待少年サッカーカーニバル\n対象：U12、U11　(2ﾁｰﾑ)
SUMMARY:岩沼招待SC
PRIORITY:0
CLASS:PUBLIC
END:VEVENT
END:VCALENDAR
