BEGIN:VCALENDAR
CALSCALE:GREGORIAN
X-WR-TIMEZONE;VALUE=TEXT:GMT
PRODID:PEAK Corporation - piCal -
X-WR-CALNAME;VALUE=TEXT:【5/28から変更】練習(新人大会壮行紅白戦)
VERSION:2.0
METHOD:PUBLISH
BEGIN:VTIMEZONE
TZID:GMT
BEGIN:STANDARD
DTSTART:19390101T000000
TZOFFSETFROM:+0000
TZOFFSETTO:+0000
TZNAME:GMT
END:STANDARD
END:VTIMEZONE
BEGIN:VEVENT
DTSTART:20170527T010000Z
DTEND:20170527T030000Z
LOCATION:八木山小校庭
TRANSP:OPAQUE
SEQUENCE:1
UID:pical060-f13101ddc896d95a28a1b4c72f4ab98f
DTSTAMP:20170607T131512Z
CATEGORIES:
DESCRIPTION:U11 vs U12\n1本目 10:10～10:55\n(10:55～11:15 U10以下 vs 母ﾁｰﾑ)\n2本目 11:15～12:00
SUMMARY:【5/28から変更】練習(新人大会壮行紅白戦)
PRIORITY:0
CLASS:PUBLIC
END:VEVENT
END:VCALENDAR
