BEGIN:VCALENDAR
CALSCALE:GREGORIAN
X-WR-TIMEZONE;VALUE=TEXT:GMT
PRODID:PEAK Corporation - piCal -
X-WR-CALNAME;VALUE=TEXT:太白ブロック懇親会
VERSION:2.0
METHOD:PUBLISH
BEGIN:VTIMEZONE
TZID:GMT
BEGIN:STANDARD
DTSTART:19390101T000000
TZOFFSETFROM:+0000
TZOFFSETTO:+0000
TZNAME:GMT
END:STANDARD
END:VTIMEZONE
BEGIN:VEVENT
DTSTART:20170708T090000Z
DTEND:20170708T110000Z
LOCATION:丸特漁業部(ベガスベガス内)
TRANSP:OPAQUE
SEQUENCE:1
UID:pical060-2bccdd727cacd990a3fbb623bc0353b0
DTSTAMP:20170625T141235Z
CATEGORIES:
DESCRIPTION:古内監督、三上C
SUMMARY:太白ブロック懇親会
PRIORITY:0
CLASS:PUBLIC
END:VEVENT
END:VCALENDAR
