BEGIN:VCALENDAR
CALSCALE:GREGORIAN
X-WR-TIMEZONE;VALUE=TEXT:GMT
PRODID:PEAK Corporation - piCal -
X-WR-CALNAME;VALUE=TEXT:小学校交歓大会 決勝T
VERSION:2.0
METHOD:PUBLISH
BEGIN:VTIMEZONE
TZID:GMT
BEGIN:STANDARD
DTSTART:19390101T000000
TZOFFSETFROM:+0000
TZOFFSETTO:+0000
TZNAME:GMT
END:STANDARD
END:VTIMEZONE
BEGIN:VEVENT
DTSTART:20171103T000000Z
DTEND:20171103T030000Z
LOCATION:泉グラウンド
TRANSP:OPAQUE
SEQUENCE:4
UID:pical060-5b457872d5ceb0888a69e3eb03f9ac8a
DTSTAMP:20171031T131341Z
CATEGORIES:
DESCRIPTION:対象：6.5年\n8:30～ 審判2名\n9:30～ 準々決勝　八木山小 vs 将監小\n(勝ちの場合　準決勝 11:00～ vs南吉成小vs袋原小の勝者)
SUMMARY:小学校交歓大会 決勝T
PRIORITY:0
CLASS:PUBLIC
END:VEVENT
END:VCALENDAR
