BEGIN:VCALENDAR
CALSCALE:GREGORIAN
X-WR-TIMEZONE;VALUE=TEXT:GMT
PRODID:PEAK Corporation - piCal -
X-WR-CALNAME;VALUE=TEXT:練習試合(U12)
VERSION:2.0
METHOD:PUBLISH
BEGIN:VTIMEZONE
TZID:GMT
BEGIN:STANDARD
DTSTART:19390101T000000
TZOFFSETFROM:+0000
TZOFFSETTO:+0000
TZNAME:GMT
END:STANDARD
END:VTIMEZONE
BEGIN:VEVENT
DTSTART:20170909T040000Z
DTEND:20170909T070000Z
LOCATION:八木山小
TRANSP:OPAQUE
SEQUENCE:1
UID:pical060-dae9e8ffad72b70c9976d638df2dc675
DTSTAMP:20170907T105956Z
CATEGORIES:
DESCRIPTION:対象：U12 \n13:15～14:00(U12)やぎやまvs金剛沢 \n14:15～15:00(U12)やぎやまvs金剛沢 \n
SUMMARY:練習試合(U12)
PRIORITY:0
CLASS:PUBLIC
END:VEVENT
END:VCALENDAR
