BEGIN:VCALENDAR
CALSCALE:GREGORIAN
X-WR-TIMEZONE;VALUE=TEXT:GMT
PRODID:PEAK Corporation - piCal -
X-WR-CALNAME;VALUE=TEXT:ﾁｬｲﾙﾄﾞｶｯﾌﾟU8ﾌｯﾄｻﾙ大会
VERSION:2.0
METHOD:PUBLISH
BEGIN:VTIMEZONE
TZID:GMT
BEGIN:STANDARD
DTSTART:19390101T000000
TZOFFSETFROM:+0000
TZOFFSETTO:+0000
TZNAME:GMT
END:STANDARD
END:VTIMEZONE
BEGIN:VEVENT
DTSTART:20171006T233000Z
DTEND:20171007T073000Z
LOCATION:スポパーク松森 フットサルプラザ
TRANSP:OPAQUE
SEQUENCE:1
UID:pical060-32fc02cbc9e3487b4ff7a4c72df2a5db
DTSTAMP:20170912T114101Z
CATEGORIES:
DESCRIPTION:対象：U8(2.1年)\n8:30～開会式\n16:00～ 表彰式
SUMMARY:ﾁｬｲﾙﾄﾞｶｯﾌﾟU8ﾌｯﾄｻﾙ大会
PRIORITY:0
CLASS:PUBLIC
END:VEVENT
END:VCALENDAR
