BEGIN:VCALENDAR
CALSCALE:GREGORIAN
X-WR-TIMEZONE;VALUE=TEXT:GMT
PRODID:PEAK Corporation - piCal -
X-WR-CALNAME;VALUE=TEXT:ﾌｯﾄｻﾙ交流大会(U12)
VERSION:2.0
METHOD:PUBLISH
BEGIN:VTIMEZONE
TZID:GMT
BEGIN:STANDARD
DTSTART:19390101T000000
TZOFFSETFROM:+0000
TZOFFSETTO:+0000
TZNAME:GMT
END:STANDARD
END:VTIMEZONE
BEGIN:VEVENT
DTSTART:20180211T040000Z
DTEND:20180211T060000Z
LOCATION:FUT MESSE 長町
TRANSP:OPAQUE
SEQUENCE:3
UID:pical060-ca278960ea334bf5bdcbe1934ee187fc
DTSTAMP:20180117T133202Z
CATEGORIES:
DESCRIPTION:第1回 太白区ﾌｯﾄｻﾙ交流大会\n対象：6年\n予選ﾘｰｸﾞCﾌﾞﾛｯｸ\n13:30～ 芦の口 vs やぎやま\n14:00～ やぎやま vs MESSE宮城\n14:30～ やぎやま vs 袋原B
SUMMARY:ﾌｯﾄｻﾙ交流大会(U12)
PRIORITY:0
CLASS:PUBLIC
END:VEVENT
END:VCALENDAR
