BEGIN:VCALENDAR
CALSCALE:GREGORIAN
X-WR-TIMEZONE;VALUE=TEXT:GMT
PRODID:PEAK Corporation - piCal -
X-WR-CALNAME;VALUE=TEXT:冬季新人交流大会(U11)
VERSION:2.0
METHOD:PUBLISH
BEGIN:VTIMEZONE
TZID:GMT
BEGIN:STANDARD
DTSTART:19390101T000000
TZOFFSETFROM:+0000
TZOFFSETTO:+0000
TZNAME:GMT
END:STANDARD
END:VTIMEZONE
BEGIN:VEVENT
DTSTART:20180204T030000Z
DTEND:20180204T080000Z
LOCATION:八木山小学校校庭
TRANSP:OPAQUE
SEQUENCE:1
UID:pical060-8be5951fefdd81f132ffd0e3570bc4aa
DTSTAMP:20180124T121740Z
CATEGORIES:
DESCRIPTION:対象：5.4年\n13:00～　やぎやま vs なかの\n14:00～　なかの vs 北中山　(審判2名)\n14:55～　金剛沢 vs 大和\n15:55～　大和 vs 北中山
SUMMARY:冬季新人交流大会(U11)
PRIORITY:0
CLASS:PUBLIC
END:VEVENT
END:VCALENDAR
