BEGIN:VCALENDAR
CALSCALE:GREGORIAN
X-WR-TIMEZONE;VALUE=TEXT:GMT
PRODID:PEAK Corporation - piCal -
X-WR-CALNAME;VALUE=TEXT:【中止】練習
VERSION:2.0
METHOD:PUBLISH
BEGIN:VTIMEZONE
TZID:GMT
BEGIN:STANDARD
DTSTART:19390101T000000
TZOFFSETFROM:+0000
TZOFFSETTO:+0000
TZNAME:GMT
END:STANDARD
END:VTIMEZONE
BEGIN:VEVENT
DTSTART:20180204T040000Z
DTEND:20180204T063000Z
LOCATION:八木山小学校校庭
TRANSP:OPAQUE
SEQUENCE:0
UID:pical060-ac8355add35b6d4141943950048dfad7
DTSTAMP:20180205T114343Z
CATEGORIES:
DESCRIPTION:
SUMMARY:【中止】練習
PRIORITY:0
CLASS:PUBLIC
END:VEVENT
END:VCALENDAR
