BEGIN:VCALENDAR
CALSCALE:GREGORIAN
X-WR-TIMEZONE;VALUE=TEXT:GMT
PRODID:PEAK Corporation - piCal -
X-WR-CALNAME;VALUE=TEXT:ﾘｽﾍﾟｸﾄﾘｰｸﾞ(第2ｽﾃｰｼﾞ)
VERSION:2.0
METHOD:PUBLISH
BEGIN:VTIMEZONE
TZID:GMT
BEGIN:STANDARD
DTSTART:19390101T000000
TZOFFSETFROM:+0000
TZOFFSETTO:+0000
TZNAME:GMT
END:STANDARD
END:VTIMEZONE
BEGIN:VEVENT
DTSTART:20180520T000000Z
DTEND:20180520T030000Z
LOCATION:八木山小学校グラウンド
TRANSP:OPAQUE
SEQUENCE:1
UID:pical060-cf7bab49de5b1e7052b41cfb8192d4ad
DTSTAMP:20180420T114910Z
CATEGORIES:
DESCRIPTION:対象カテゴリー：Ｕ-12
SUMMARY:ﾘｽﾍﾟｸﾄﾘｰｸﾞ(第2ｽﾃｰｼﾞ)
PRIORITY:0
CLASS:PUBLIC
END:VEVENT
END:VCALENDAR
