BEGIN:VCALENDAR
CALSCALE:GREGORIAN
X-WR-TIMEZONE;VALUE=TEXT:GMT
PRODID:PEAK Corporation - piCal -
X-WR-CALNAME;VALUE=TEXT:健全育成大会 監督会議
VERSION:2.0
METHOD:PUBLISH
BEGIN:VTIMEZONE
TZID:GMT
BEGIN:STANDARD
DTSTART:19390101T000000
TZOFFSETFROM:+0000
TZOFFSETTO:+0000
TZNAME:GMT
END:STANDARD
END:VTIMEZONE
BEGIN:VEVENT
DTSTART:20180609T090000Z
DTEND:20180609T100000Z
LOCATION:上野山ｺﾐｭﾆﾃｨｰｾﾝﾀｰ
TRANSP:OPAQUE
SEQUENCE:0
UID:pical060-085bf24e42803c76820a3d4887978921
DTSTAMP:20180522T121429Z
CATEGORIES:
DESCRIPTION:
SUMMARY:健全育成大会 監督会議
PRIORITY:0
CLASS:PUBLIC
END:VEVENT
END:VCALENDAR
