BEGIN:VCALENDAR
CALSCALE:GREGORIAN
X-WR-TIMEZONE;VALUE=TEXT:GMT
PRODID:PEAK Corporation - piCal -
X-WR-CALNAME;VALUE=TEXT:練習休み
VERSION:2.0
METHOD:PUBLISH
BEGIN:VTIMEZONE
TZID:GMT
BEGIN:STANDARD
DTSTART:19390101T000000
TZOFFSETFROM:+0000
TZOFFSETTO:+0000
TZNAME:GMT
END:STANDARD
END:VTIMEZONE
BEGIN:VEVENT
DTSTART:20180714T000000Z
DTEND:20180714T080000Z
LOCATION:八木山小学校グラウンド
TRANSP:OPAQUE
SEQUENCE:0
UID:pical060-8b1f9e498d2d2baa5d932ab2d33a05fa
DTSTAMP:20180621T233746Z
CATEGORIES:
DESCRIPTION:おやじの会お泊り会の為
SUMMARY:練習休み
PRIORITY:0
CLASS:PUBLIC
END:VEVENT
END:VCALENDAR
