BEGIN:VCALENDAR
CALSCALE:GREGORIAN
X-WR-TIMEZONE;VALUE=TEXT:GMT
PRODID:PEAK Corporation - piCal -
X-WR-CALNAME;VALUE=TEXT:練習休み
VERSION:2.0
METHOD:PUBLISH
BEGIN:VTIMEZONE
TZID:GMT
BEGIN:STANDARD
DTSTART:19390101T000000
TZOFFSETFROM:+0000
TZOFFSETTO:+0000
TZNAME:GMT
END:STANDARD
END:VTIMEZONE
BEGIN:VEVENT
DTSTART:20180814T000000Z
DTEND:20180814T080000Z
LOCATION:
TRANSP:OPAQUE
SEQUENCE:0
UID:pical060-280ee5979cb099b2fcfa01dda3994466
DTSTAMP:20180722T233744Z
CATEGORIES:
DESCRIPTION:
SUMMARY:練習休み
PRIORITY:0
CLASS:PUBLIC
END:VEVENT
END:VCALENDAR
