BEGIN:VCALENDAR
CALSCALE:GREGORIAN
X-WR-TIMEZONE;VALUE=TEXT:GMT
PRODID:PEAK Corporation - piCal -
X-WR-CALNAME;VALUE=TEXT:柴田町長杯(ヤマプラス杯)
VERSION:2.0
METHOD:PUBLISH
BEGIN:VTIMEZONE
TZID:GMT
BEGIN:STANDARD
DTSTART:19390101T000000
TZOFFSETFROM:+0000
TZOFFSETTO:+0000
TZNAME:GMT
END:STANDARD
END:VTIMEZONE
BEGIN:VEVENT
DTSTART:20180902T000000Z
DTEND:20180902T080000Z
LOCATION:
TRANSP:OPAQUE
SEQUENCE:0
UID:pical060-7c71785282badcec5571d586a2d42928
DTSTAMP:20180724T120809Z
CATEGORIES:
DESCRIPTION:対象カテゴリー：Ｕ－１０
SUMMARY:柴田町長杯(ヤマプラス杯)
PRIORITY:0
CLASS:PUBLIC
END:VEVENT
END:VCALENDAR
