BEGIN:VCALENDAR
CALSCALE:GREGORIAN
X-WR-TIMEZONE;VALUE=TEXT:GMT
PRODID:PEAK Corporation - piCal -
X-WR-CALNAME;VALUE=TEXT:U-12選手権 太白区予選
VERSION:2.0
METHOD:PUBLISH
BEGIN:VTIMEZONE
TZID:GMT
BEGIN:STANDARD
DTSTART:19390101T000000
TZOFFSETFROM:+0000
TZOFFSETTO:+0000
TZNAME:GMT
END:STANDARD
END:VTIMEZONE
BEGIN:VEVENT
DTSTART:20180917T000000Z
DTEND:20180917T040000Z
LOCATION:袋原小学校グラウンド
TRANSP:OPAQUE
SEQUENCE:0
UID:pical060-6d3a34edbfca9575c0c1d2f65d5ac5a6
DTSTAMP:20180824T133348Z
CATEGORIES:
DESCRIPTION:対象カテゴリー：Ｕ－１２
SUMMARY:U-12選手権 太白区予選
PRIORITY:0
CLASS:PUBLIC
END:VEVENT
END:VCALENDAR
