BEGIN:VCALENDAR
CALSCALE:GREGORIAN
X-WR-TIMEZONE;VALUE=TEXT:GMT
PRODID:PEAK Corporation - piCal -
X-WR-CALNAME;VALUE=TEXT:くまがい杯 太白ブロック予選
VERSION:2.0
METHOD:PUBLISH
BEGIN:VTIMEZONE
TZID:GMT
BEGIN:STANDARD
DTSTART:19390101T000000
TZOFFSETFROM:+0000
TZOFFSETTO:+0000
TZNAME:GMT
END:STANDARD
END:VTIMEZONE
BEGIN:VEVENT
DTSTART:20180909T000000Z
DTEND:20180909T030000Z
LOCATION:八木山小学校グラウンド
TRANSP:OPAQUE
SEQUENCE:0
UID:pical060-fb9f9ec6507a4aacfe76962062907a00
DTSTAMP:20180824T133617Z
CATEGORIES:
DESCRIPTION:対象カテゴリー：Ｕ－９
SUMMARY:くまがい杯 太白ブロック予選
PRIORITY:0
CLASS:PUBLIC
END:VEVENT
END:VCALENDAR
