BEGIN:VCALENDAR
CALSCALE:GREGORIAN
X-WR-TIMEZONE;VALUE=TEXT:GMT
PRODID:PEAK Corporation - piCal -
X-WR-CALNAME;VALUE=TEXT:ﾋﾛｽﾎﾟｰﾂ杯 県大会
VERSION:2.0
METHOD:PUBLISH
BEGIN:VTIMEZONE
TZID:GMT
BEGIN:STANDARD
DTSTART:19390101T000000
TZOFFSETFROM:+0000
TZOFFSETTO:+0000
TZNAME:GMT
END:STANDARD
END:VTIMEZONE
BEGIN:VEVENT
DTSTART:20190224T000000Z
DTEND:20190224T080000Z
LOCATION:
TRANSP:OPAQUE
SEQUENCE:0
UID:pical060-7676202711b17bc35d678dd41f54ee05
DTSTAMP:20190121T111533Z
CATEGORIES:
DESCRIPTION:
SUMMARY:ﾋﾛｽﾎﾟｰﾂ杯 県大会
PRIORITY:0
CLASS:PUBLIC
END:VEVENT
END:VCALENDAR
