BEGIN:VCALENDAR
CALSCALE:GREGORIAN
X-WR-TIMEZONE;VALUE=TEXT:GMT
PRODID:PEAK Corporation - piCal -
X-WR-CALNAME;VALUE=TEXT:芦の口小 練習試合(3年生～1年生)
VERSION:2.0
METHOD:PUBLISH
BEGIN:VTIMEZONE
TZID:GMT
BEGIN:STANDARD
DTSTART:19390101T000000
TZOFFSETFROM:+0000
TZOFFSETTO:+0000
TZNAME:GMT
END:STANDARD
END:VTIMEZONE
BEGIN:VEVENT
DTSTART:20190203T050000Z
DTEND:20190203T070000Z
LOCATION:芦の口小学校
TRANSP:OPAQUE
SEQUENCE:1
UID:pical060-b2caec4e6041043c84a50cdeb4d4f082
DTSTAMP:20190121T112738Z
CATEGORIES:
DESCRIPTION:
SUMMARY:芦の口小 練習試合(3年生～1年生)
PRIORITY:0
CLASS:PUBLIC
END:VEVENT
END:VCALENDAR
