BEGIN:VCALENDAR
CALSCALE:GREGORIAN
X-WR-TIMEZONE;VALUE=TEXT:GMT
PRODID:PEAK Corporation - piCal -
X-WR-CALNAME;VALUE=TEXT:通常練習(6年、3年以下)
VERSION:2.0
METHOD:PUBLISH
BEGIN:VTIMEZONE
TZID:GMT
BEGIN:STANDARD
DTSTART:19390101T000000
TZOFFSETFROM:+0000
TZOFFSETTO:+0000
TZNAME:GMT
END:STANDARD
END:VTIMEZONE
BEGIN:VEVENT
DTSTART:20190210T040000Z
DTEND:20190210T060000Z
LOCATION:八木山小学校グラウンド
TRANSP:OPAQUE
SEQUENCE:0
UID:pical060-03e602eb873b16417d46fc6449159174
DTSTAMP:20190121T113225Z
CATEGORIES:
DESCRIPTION:
SUMMARY:通常練習(6年、3年以下)
PRIORITY:0
CLASS:PUBLIC
END:VEVENT
END:VCALENDAR
