BEGIN:VCALENDAR
CALSCALE:GREGORIAN
X-WR-TIMEZONE;VALUE=TEXT:GMT
PRODID:PEAK Corporation - piCal -
X-WR-CALNAME;VALUE=TEXT:通常練習(4年～1年)
VERSION:2.0
METHOD:PUBLISH
BEGIN:VTIMEZONE
TZID:GMT
BEGIN:STANDARD
DTSTART:19390101T000000
TZOFFSETFROM:+0000
TZOFFSETTO:+0000
TZNAME:GMT
END:STANDARD
END:VTIMEZONE
BEGIN:VEVENT
DTSTART:20190224T040000Z
DTEND:20190224T060000Z
LOCATION:八木山小学校グラウンド
TRANSP:OPAQUE
SEQUENCE:0
UID:pical060-7b75ddf52b3c3e1a6794ab4c3d50f3fd
DTSTAMP:20190121T113326Z
CATEGORIES:
DESCRIPTION:
SUMMARY:通常練習(4年～1年)
PRIORITY:0
CLASS:PUBLIC
END:VEVENT
END:VCALENDAR
