BEGIN:VCALENDAR
CALSCALE:GREGORIAN
X-WR-TIMEZONE;VALUE=TEXT:GMT
PRODID:PEAK Corporation - piCal -
X-WR-CALNAME;VALUE=TEXT:通常練習(6年～5年)
VERSION:2.0
METHOD:PUBLISH
BEGIN:VTIMEZONE
TZID:GMT
BEGIN:STANDARD
DTSTART:19390101T000000
TZOFFSETFROM:+0000
TZOFFSETTO:+0000
TZNAME:GMT
END:STANDARD
END:VTIMEZONE
BEGIN:VEVENT
DTSTART:20190302T000000Z
DTEND:20190302T030000Z
LOCATION:
TRANSP:OPAQUE
SEQUENCE:2
UID:pical060-81ecd6c5de527c6628a42db2ae3f7180
DTSTAMP:20190220T035632Z
CATEGORIES:
DESCRIPTION:
SUMMARY:通常練習(6年～5年)
PRIORITY:0
CLASS:PUBLIC
END:VEVENT
END:VCALENDAR
