BEGIN:VCALENDAR
CALSCALE:GREGORIAN
X-WR-TIMEZONE;VALUE=TEXT:GMT
PRODID:PEAK Corporation - piCal -
X-WR-CALNAME;VALUE=TEXT:U10七ヶ浜交流戦
VERSION:2.0
METHOD:PUBLISH
BEGIN:VTIMEZONE
TZID:GMT
BEGIN:STANDARD
DTSTART:19390101T000000
TZOFFSETFROM:+0000
TZOFFSETTO:+0000
TZNAME:GMT
END:STANDARD
END:VTIMEZONE
BEGIN:VEVENT
DTSTART:20190302T000000Z
DTEND:20190302T080000Z
LOCATION:
TRANSP:OPAQUE
SEQUENCE:0
UID:pical060-2b5f855d1f3bab7c813d5bcdd3bd4f31
DTSTAMP:20190220T035700Z
CATEGORIES:
DESCRIPTION:
SUMMARY:U10七ヶ浜交流戦
PRIORITY:0
CLASS:PUBLIC
END:VEVENT
END:VCALENDAR
