BEGIN:VCALENDAR
CALSCALE:GREGORIAN
X-WR-TIMEZONE;VALUE=TEXT:GMT
PRODID:PEAK Corporation - piCal -
X-WR-CALNAME;VALUE=TEXT:リスペクト
VERSION:2.0
METHOD:PUBLISH
BEGIN:VTIMEZONE
TZID:GMT
BEGIN:STANDARD
DTSTART:19390101T000000
TZOFFSETFROM:+0000
TZOFFSETTO:+0000
TZNAME:GMT
END:STANDARD
END:VTIMEZONE
BEGIN:VEVENT
DTSTART:20190908T000000Z
DTEND:20190908T080000Z
LOCATION:
TRANSP:OPAQUE
SEQUENCE:0
UID:pical060-fe17e6ac983cc90bb4703136af00ac00
DTSTAMP:20190508T012832Z
CATEGORIES:
DESCRIPTION:
SUMMARY:リスペクト
PRIORITY:0
CLASS:PUBLIC
END:VEVENT
END:VCALENDAR
