BEGIN:VCALENDAR
CALSCALE:GREGORIAN
X-WR-TIMEZONE;VALUE=TEXT:GMT
PRODID:PEAK Corporation - piCal -
X-WR-CALNAME;VALUE=TEXT:ジュニアフットサルリーグ
VERSION:2.0
METHOD:PUBLISH
BEGIN:VTIMEZONE
TZID:GMT
BEGIN:STANDARD
DTSTART:19390101T000000
TZOFFSETFROM:+0000
TZOFFSETTO:+0000
TZNAME:GMT
END:STANDARD
END:VTIMEZONE
BEGIN:VEVENT
DTSTART:20191222T000000Z
DTEND:20191222T080000Z
LOCATION:広瀬小学校
TRANSP:OPAQUE
SEQUENCE:0
UID:pical060-346d424bfe6448602fc09d0bf75de345
DTSTAMP:20191202T210938Z
CATEGORIES:
DESCRIPTION:
SUMMARY:ジュニアフットサルリーグ
PRIORITY:0
CLASS:PUBLIC
END:VEVENT
END:VCALENDAR
