BEGIN:VCALENDAR
CALSCALE:GREGORIAN
X-WR-TIMEZONE;VALUE=TEXT:GMT
PRODID:PEAK Corporation - piCal -
X-WR-CALNAME;VALUE=TEXT:合宿
VERSION:2.0
METHOD:PUBLISH
BEGIN:VTIMEZONE
TZID:GMT
BEGIN:STANDARD
DTSTART:19390101T000000
TZOFFSETFROM:+0000
TZOFFSETTO:+0000
TZNAME:GMT
END:STANDARD
END:VTIMEZONE
BEGIN:VEVENT
DTSTART:20210116T000000Z
DTEND:20210117T080000Z
LOCATION:
TRANSP:OPAQUE
SEQUENCE:0
UID:pical060-c5873ed2713ef65fd03f6607f18337dd
DTSTAMP:20201217T050509Z
CATEGORIES:
DESCRIPTION:
SUMMARY:合宿
PRIORITY:0
CLASS:PUBLIC
END:VEVENT
END:VCALENDAR
