BEGIN:VCALENDAR
CALSCALE:GREGORIAN
X-WR-TIMEZONE;VALUE=TEXT:GMT
PRODID:PEAK Corporation - piCal -
X-WR-CALNAME;VALUE=TEXT:卒団式
VERSION:2.0
METHOD:PUBLISH
BEGIN:VTIMEZONE
TZID:GMT
BEGIN:STANDARD
DTSTART:19390101T000000
TZOFFSETFROM:+0000
TZOFFSETTO:+0000
TZNAME:GMT
END:STANDARD
END:VTIMEZONE
BEGIN:VEVENT
DTSTART:20210313T000000Z
DTEND:20210313T080000Z
LOCATION:八木山市民センター
TRANSP:OPAQUE
SEQUENCE:0
UID:pical060-f4fc7116eead1ea96c2f88f7d06e4d41
DTSTAMP:20210227T095831Z
CATEGORIES:
DESCRIPTION:
SUMMARY:卒団式
PRIORITY:0
CLASS:PUBLIC
END:VEVENT
END:VCALENDAR
