BEGIN:VCALENDAR
CALSCALE:GREGORIAN
X-WR-TIMEZONE;VALUE=TEXT:GMT
PRODID:PEAK Corporation - piCal -
X-WR-CALNAME;VALUE=TEXT:めぐみ野杯U-12リーグ
VERSION:2.0
METHOD:PUBLISH
BEGIN:VTIMEZONE
TZID:GMT
BEGIN:STANDARD
DTSTART:19390101T000000
TZOFFSETFROM:+0000
TZOFFSETTO:+0000
TZNAME:GMT
END:STANDARD
END:VTIMEZONE
BEGIN:VEVENT
DTSTART:20220604T000000Z
DTEND:20220604T030000Z
LOCATION:ニッペリア
TRANSP:OPAQUE
SEQUENCE:0
UID:pical060-2d74275d6ca7f15eca3641cc010162c8
DTSTAMP:20220607T074631Z
CATEGORIES:
DESCRIPTION:
SUMMARY:めぐみ野杯U-12リーグ
PRIORITY:0
CLASS:PUBLIC
END:VEVENT
END:VCALENDAR
