BEGIN:VCALENDAR
CALSCALE:GREGORIAN
X-WR-TIMEZONE;VALUE=TEXT:GMT
PRODID:PEAK Corporation - piCal -
X-WR-CALNAME;VALUE=TEXT:めぐみ野杯U-12リーグ
VERSION:2.0
METHOD:PUBLISH
BEGIN:VTIMEZONE
TZID:GMT
BEGIN:STANDARD
DTSTART:19390101T000000
TZOFFSETFROM:+0000
TZOFFSETTO:+0000
TZNAME:GMT
END:STANDARD
END:VTIMEZONE
BEGIN:VEVENT
DTSTART:20220626T010000Z
DTEND:20220626T060000Z
LOCATION:鳥の海
TRANSP:OPAQUE
SEQUENCE:0
UID:pical060-83a28637074ec2bca30af18b8d293385
DTSTAMP:20220607T075234Z
CATEGORIES:
DESCRIPTION:
SUMMARY:めぐみ野杯U-12リーグ
PRIORITY:0
CLASS:PUBLIC
END:VEVENT
END:VCALENDAR
