BEGIN:VCALENDAR
CALSCALE:GREGORIAN
X-WR-TIMEZONE;VALUE=TEXT:GMT
PRODID:PEAK Corporation - piCal -
X-WR-CALNAME;VALUE=TEXT:めぐみ野杯U-12リーグ
VERSION:2.0
METHOD:PUBLISH
BEGIN:VTIMEZONE
TZID:GMT
BEGIN:STANDARD
DTSTART:19390101T000000
TZOFFSETFROM:+0000
TZOFFSETTO:+0000
TZNAME:GMT
END:STANDARD
END:VTIMEZONE
BEGIN:VEVENT
DTSTART:20220625T030000Z
DTEND:20220625T073000Z
LOCATION:中田中央公園
TRANSP:OPAQUE
SEQUENCE:0
UID:pical060-ea56f1325f2f1167a78ac9a910b0f420
DTSTAMP:20220622T084433Z
CATEGORIES:
DESCRIPTION:
SUMMARY:めぐみ野杯U-12リーグ
PRIORITY:0
CLASS:PUBLIC
END:VEVENT
END:VCALENDAR
